BEGIN:VCALENDAR
VERSION:2.0
PRODID:-//Dr. Nancy Rich - ECPv6.15.20//NONSGML v1.0//EN
CALSCALE:GREGORIAN
METHOD:PUBLISH
X-WR-CALNAME:Dr. Nancy Rich
X-ORIGINAL-URL:https://drnancyrich.com
X-WR-CALDESC:Events for Dr. Nancy Rich
REFRESH-INTERVAL;VALUE=DURATION:PT1H
X-Robots-Tag:noindex
X-PUBLISHED-TTL:PT1H
BEGIN:VTIMEZONE
TZID:America/New_York
BEGIN:DAYLIGHT
TZOFFSETFROM:-0500
TZOFFSETTO:-0400
TZNAME:EDT
DTSTART:20180311T070000
END:DAYLIGHT
BEGIN:STANDARD
TZOFFSETFROM:-0400
TZOFFSETTO:-0500
TZNAME:EST
DTSTART:20181104T060000
END:STANDARD
BEGIN:DAYLIGHT
TZOFFSETFROM:-0500
TZOFFSETTO:-0400
TZNAME:EDT
DTSTART:20190310T070000
END:DAYLIGHT
BEGIN:STANDARD
TZOFFSETFROM:-0400
TZOFFSETTO:-0500
TZNAME:EST
DTSTART:20191103T060000
END:STANDARD
BEGIN:DAYLIGHT
TZOFFSETFROM:-0500
TZOFFSETTO:-0400
TZNAME:EDT
DTSTART:20200308T070000
END:DAYLIGHT
BEGIN:STANDARD
TZOFFSETFROM:-0400
TZOFFSETTO:-0500
TZNAME:EST
DTSTART:20201101T060000
END:STANDARD
BEGIN:DAYLIGHT
TZOFFSETFROM:-0500
TZOFFSETTO:-0400
TZNAME:EDT
DTSTART:20210314T070000
END:DAYLIGHT
BEGIN:STANDARD
TZOFFSETFROM:-0400
TZOFFSETTO:-0500
TZNAME:EST
DTSTART:20211107T060000
END:STANDARD
END:VTIMEZONE
BEGIN:VEVENT
DTSTART;TZID=America/New_York:20200718T080000
DTEND;TZID=America/New_York:20200718T130000
DTSTAMP:20260420T031141
CREATED:20191015T153236Z
LAST-MODIFIED:20191015T153236Z
UID:2491-1595059200-1595077200@drnancyrich.com
SUMMARY:ACT Test
DESCRIPTION:
URL:https://drnancyrich.com/event/act-test-4/
END:VEVENT
BEGIN:VEVENT
DTSTART;TZID=America/New_York:20200613T080000
DTEND;TZID=America/New_York:20200613T130000
DTSTAMP:20260420T031141
CREATED:20191015T153132Z
LAST-MODIFIED:20191015T153132Z
UID:2489-1592035200-1592053200@drnancyrich.com
SUMMARY:ACT Test
DESCRIPTION:
URL:https://drnancyrich.com/event/act-test-3/
END:VEVENT
BEGIN:VEVENT
DTSTART;TZID=America/New_York:20200606T080000
DTEND;TZID=America/New_York:20200606T130000
DTSTAMP:20260420T031141
CREATED:20191015T153021Z
LAST-MODIFIED:20191015T153021Z
UID:2487-1591430400-1591448400@drnancyrich.com
SUMMARY:SAT and SAT Subject Tests
DESCRIPTION:
URL:https://drnancyrich.com/event/sat-and-sat-subject-tests-3/
END:VEVENT
BEGIN:VEVENT
DTSTART;TZID=America/New_York:20200502T080000
DTEND;TZID=America/New_York:20200502T130000
DTSTAMP:20260420T031141
CREATED:20191015T152912Z
LAST-MODIFIED:20191015T152912Z
UID:2484-1588406400-1588424400@drnancyrich.com
SUMMARY:SAT and SAT Subject Tests
DESCRIPTION:
URL:https://drnancyrich.com/event/sat-and-sat-subject-tests-2/
END:VEVENT
BEGIN:VEVENT
DTSTART;TZID=America/New_York:20200404T080000
DTEND;TZID=America/New_York:20200404T130000
DTSTAMP:20260420T031141
CREATED:20191015T152734Z
LAST-MODIFIED:20191015T152734Z
UID:2482-1585987200-1586005200@drnancyrich.com
SUMMARY:ACT
DESCRIPTION:
URL:https://drnancyrich.com/event/act/
END:VEVENT
BEGIN:VEVENT
DTSTART;TZID=America/New_York:20200314T080000
DTEND;TZID=America/New_York:20200314T130000
DTSTAMP:20260420T031141
CREATED:20191015T151735Z
LAST-MODIFIED:20191015T152631Z
UID:2479-1584172800-1584190800@drnancyrich.com
SUMMARY:SAT Test ONLY
DESCRIPTION:
URL:https://drnancyrich.com/event/act-test-2/
END:VEVENT
BEGIN:VEVENT
DTSTART;TZID=America/New_York:20200208T080000
DTEND;TZID=America/New_York:20200208T130000
DTSTAMP:20260420T031141
CREATED:20191015T153735Z
LAST-MODIFIED:20191015T153735Z
UID:2495-1581148800-1581166800@drnancyrich.com
SUMMARY:ACT Test
DESCRIPTION:
URL:https://drnancyrich.com/event/act-test-5/
END:VEVENT
BEGIN:VEVENT
DTSTART;TZID=America/New_York:20191214T080000
DTEND;TZID=America/New_York:20191214T130000
DTSTAMP:20260420T031141
CREATED:20191015T151120Z
LAST-MODIFIED:20191015T151203Z
UID:2473-1576310400-1576328400@drnancyrich.com
SUMMARY:ACT Test
DESCRIPTION:
URL:https://drnancyrich.com/event/sat-test-and-sat-subject-tests/
END:VEVENT
BEGIN:VEVENT
DTSTART;TZID=America/New_York:20191207T080000
DTEND;TZID=America/New_York:20191207T130000
DTSTAMP:20260420T031141
CREATED:20191015T151443Z
LAST-MODIFIED:20191015T151443Z
UID:2477-1575705600-1575723600@drnancyrich.com
SUMMARY:SAT and SAT Subject Tests
DESCRIPTION:
URL:https://drnancyrich.com/event/sat-and-sat-subject-tests/
END:VEVENT
BEGIN:VEVENT
DTSTART;TZID=America/New_York:20191102T080000
DTEND;TZID=America/New_York:20191102T130000
DTSTAMP:20260420T031141
CREATED:20191015T151036Z
LAST-MODIFIED:20191015T151349Z
UID:2470-1572681600-1572699600@drnancyrich.com
SUMMARY:SAT Test and SAT subject tests
DESCRIPTION:
URL:https://drnancyrich.com/event/sat-test/
END:VEVENT
BEGIN:VEVENT
DTSTART;TZID=America/New_York:20191026T080000
DTEND;TZID=America/New_York:20191026T130000
DTSTAMP:20260420T031141
CREATED:20191015T150956Z
LAST-MODIFIED:20191015T150956Z
UID:2468-1572076800-1572094800@drnancyrich.com
SUMMARY:ACT Test
DESCRIPTION:
URL:https://drnancyrich.com/event/act-test/
END:VEVENT
BEGIN:VEVENT
DTSTART;TZID=America/New_York:20191005T000000
DTEND;TZID=America/New_York:20191005T000000
DTSTAMP:20260420T031141
CREATED:20191015T153612Z
LAST-MODIFIED:20191015T153612Z
UID:2493-1570233600-1570233600@drnancyrich.com
SUMMARY:SAT and SAT Subject tests
DESCRIPTION:
URL:https://drnancyrich.com/event/sat-and-sat-subject-tests-4/
END:VEVENT
BEGIN:VEVENT
DTSTART;TZID=America/New_York:20190812T080000
DTEND;TZID=America/New_York:20190812T080000
DTSTAMP:20260420T031141
CREATED:20190805T194749Z
LAST-MODIFIED:20190805T194749Z
UID:2455-1565596800-1565596800@drnancyrich.com
SUMMARY:ACT/SAT Preparation Tutoring Begins Fall Session
DESCRIPTION:
URL:https://drnancyrich.com/event/act-sat-preparation-tutoring-begins-fall-session/
LOCATION:West Boca location\, FL\, 33498\, United States
END:VEVENT
END:VCALENDAR